BEGIN:VCALENDAR
VERSION:2.0
PRODID:-//ChamberMaster//Event Calendar 2.0//EN
METHOD:PUBLISH
X-PUBLISHED-TTL:P1H
REFRESH-INTERVAL:P1H
CALSCALE:GREGORIAN
BEGIN:VTIMEZONE
TZID:America/New_York
BEGIN:DAYLIGHT
RRULE:FREQ=YEARLY;BYMONTH=3;BYDAY=2SU
DTSTART:20070101T000000
TZOFFSETFROM:-0500
TZOFFSETTO:-0400
TZNAME:Eastern Daylight Time
END:DAYLIGHT
BEGIN:STANDARD
RRULE:FREQ=YEARLY;BYMONTH=11;BYDAY=1SU
DTSTART:20070101T000000
TZOFFSETFROM:-0400
TZOFFSETTO:-0500
TZNAME:Eastern Standard Time
END:STANDARD
END:VTIMEZONE
BEGIN:VEVENT
DTSTART;VALUE=DATE:20260804
DTEND;VALUE=DATE:20260826
TRANSP:TRANSPARENT
X-MICROSOFT-CDO-ALLDAYEVENT:TRUE
SUMMARY:AGC EDGE - Blueprint Reading Intermediate
DESCRIPTION:*Click the button below to fill out a brief form and be notified when registration opens for Blueprint Reading Intermediate.CLICK HERE TO JOIN WAITLIST.AGC Member Pricing: $700.00AGC Non-Member Pricing: $800.00Note: please select AGC Chapter - AGC Florida East Coast (11E) from the dropdown menu when registeringAbout the WorkshopThis advanced\, application‑focused 4-part workshop is designed to build on the foundational knowledge gained in *Blueprint Reading Basics and strengthen your ability to work confidently with complex construction documents.This Blueprint Reading Intermediate workshop is developed to guide students beyond basic plan navigation and into deeper interpretation\, coordination\, and practical use of construction drawings and specifications. Participants will gain hands‑on experience analyzing more complex drawing sets\, understanding how multiple disciplines interact\, and recognizing how documents are used throughout the construction process.Through guided instruction and real‑world examples\, students will learn to interpret detailed sections\, assemblies\, and system layouts\; cross‑reference architectural\, structural\, and MEP drawings\; and identify discrepancies or conflicts before they impact the field. Emphasis is placed on cross-referencing multiple disciplines\, understanding design intent\, sequencing\, constructability\, and how drawings\, specifications\, addenda\, RFIs\, and submittals work together during project execution.* If Blueprint Reading Basics (1) or A3CM Basic Blueprint Reading 100 Level with Stephen Nichols was not previously completed\, you will be required to complete a skill level check before enrollment in this workshop.
X-ALT-DESC;FMTTYPE=text/html:<!DOCTYPE html><html><head><title></title></head><body aria-disabled="false"><p><strong fr-original-style="" style="font-weight: 700\;"><em><span style="font-size: 18px\;">*Click the button below to fill out a brief form and be notified when registration opens for Blueprint Reading Intermediate.</span></em></strong></p><h3 style='color: rgb(0\, 0\, 0)\; font-family: "Open Sans"\, sans-serif\; font-style: normal\; font-variant-ligatures: normal\; font-variant-caps: normal\; letter-spacing: normal\; orphans: 2\; text-align: start\; text-indent: 0px\; text-transform: none\; widows: 2\; word-spacing: 0px\; -webkit-text-stroke-width: 0px\; white-space: normal\; background-color: rgb(255\, 255\, 255)\; text-decoration-thickness: initial\; text-decoration-style: initial\; text-decoration-color: initial\;'><a fr-original-style="" href="https://forms.office.com/pages/responsepage.aspx?id=QNcCRrvBM02zOkNe-2qhvQXt77_2EhFKq0uBUC9K79xUMTVBNEU2R1RYSVUxWUNGTVdRUFA1MjkyTi4u&route=shorturl" style="user-select: auto\;"><span style="color: rgb(184\, 49\, 47)\;"><u><span style="box-sizing: border-box\; font-size: 18px\;"><strong fr-original-style="box-sizing: border-box\; font-weight: 700\;" style="box-sizing: border-box\; font-weight: 700\;"><span style="box-sizing: border-box\;">CLICK HERE</span></strong></span><span style="font-size: 18px\;">&nbsp\;TO JOIN WAITLIST<span style="box-sizing: border-box\;">.</span></span></u></span></a></h3><h3 style='color: rgb(0\, 0\, 0)\; font-family: "Open Sans"\, sans-serif\; font-style: normal\; font-variant-ligatures: normal\; font-variant-caps: normal\; letter-spacing: normal\; orphans: 2\; text-align: start\; text-indent: 0px\; text-transform: none\; widows: 2\; word-spacing: 0px\; -webkit-text-stroke-width: 0px\; white-space: normal\; background-color: rgb(255\, 255\, 255)\; text-decoration-thickness: initial\; text-decoration-style: initial\; text-decoration-color: initial\;'><strong fr-original-style="" style="font-weight: 700\;">AGC Member Pricing: $700.00</strong></h3><h3 style='color: rgb(0\, 0\, 0)\; font-family: "Open Sans"\, sans-serif\; font-style: normal\; font-variant-ligatures: normal\; font-variant-caps: normal\; letter-spacing: normal\; orphans: 2\; text-align: start\; text-indent: 0px\; text-transform: none\; widows: 2\; word-spacing: 0px\; -webkit-text-stroke-width: 0px\; white-space: normal\; background-color: rgb(255\, 255\, 255)\; text-decoration-thickness: initial\; text-decoration-style: initial\; text-decoration-color: initial\;'><strong fr-original-style="" style="font-weight: 700\;">AGC Non-Member Pricing: $800.00</strong></h3><p><em>Note: please select AGC Chapter - AGC Florida East Coast (11E) from the dropdown menu when registering</em></p><h3 data-fontsize="21.6" data-lineheight="27px" style='color: rgb(0\, 0\, 0)\; font-family: "Open Sans"\, sans-serif\; font-style: normal\; font-variant-ligatures: normal\; font-variant-caps: normal\; letter-spacing: normal\; orphans: 2\; text-align: start\; text-indent: 0px\; text-transform: none\; widows: 2\; word-spacing: 0px\; -webkit-text-stroke-width: 0px\; white-space: normal\; background-color: rgb(255\, 255\, 255)\; text-decoration-thickness: initial\; text-decoration-style: initial\; text-decoration-color: initial\;'><strong fr-original-style="" style="font-weight: 700\;">About the Workshop</strong></h3><p><span style="font-size: 18px\;">This advanced\, application‑focused 4-part workshop is designed to build on the foundational knowledge gained in *Blueprint Reading Basics and strengthen your ability to work confidently with complex construction documents.</span></p><p><span style="font-size: 18px\;">This Blueprint Reading Intermediate workshop is developed to guide students beyond basic plan navigation and into deeper interpretation\, coordination\, and practical use of construction drawings and specifications. Participants will gain hands‑on experience analyzing more complex drawing sets\, understanding how multiple disciplines interact\, and recognizing how documents are used throughout the construction process.</span></p><p><span style="font-size: 18px\;">Through guided instruction and real‑world examples\, students will learn to interpret detailed sections\, assemblies\, and system layouts\; cross‑reference architectural\, structural\, and MEP drawings\; and identify discrepancies or conflicts before they impact the field. Emphasis is placed on cross-referencing multiple disciplines\, understanding design intent\, sequencing\, constructability\, and how drawings\, specifications\, addenda\, RFIs\, and submittals work together during project execution.</span></p><p><span style="font-size: 18px\;">* If Blueprint Reading Basics (1) or A3CM Basic Blueprint Reading 100 Level with Stephen Nichols was not previously completed\, you will be required to complete a skill level check before enrollment in this workshop.</span></p></body></html>
LOCATION:
UID:e.2444.1447364
SEQUENCE:3
DTSTAMP:20260421T122631Z
URL:https://members.agcfla.build/board-meetings/Details/agc-edge-blueprint-reading-intermediate-1714302?sourceTypeId=Hub
END:VEVENT
END:VCALENDAR
