BEGIN:VCALENDAR
VERSION:2.0
PRODID:-//ChamberMaster//Event Calendar 2.0//EN
METHOD:PUBLISH
X-PUBLISHED-TTL:P1H
REFRESH-INTERVAL:P1H
CALSCALE:GREGORIAN
BEGIN:VTIMEZONE
TZID:America/New_York
BEGIN:DAYLIGHT
RRULE:FREQ=YEARLY;BYMONTH=3;BYDAY=2SU
DTSTART:20070101T000000
TZOFFSETFROM:-0500
TZOFFSETTO:-0400
TZNAME:Eastern Daylight Time
END:DAYLIGHT
BEGIN:STANDARD
RRULE:FREQ=YEARLY;BYMONTH=11;BYDAY=1SU
DTSTART:20070101T000000
TZOFFSETFROM:-0400
TZOFFSETTO:-0500
TZNAME:Eastern Standard Time
END:STANDARD
END:VTIMEZONE
BEGIN:VEVENT
DTSTART;VALUE=DATE:20260914
DTEND;VALUE=DATE:20261123
TRANSP:TRANSPARENT
X-MICROSOFT-CDO-ALLDAYEVENT:TRUE
SUMMARY:Supervisory Training Program (STP)
DESCRIPTION:AGC Member Pricing: $600 (per course) | Non-Member Pricing: $600 (per course)SUPERVISORY TRAININGThe Associated General Contractors of America's Supervisory Training Program (STP) is a construction-specific training curriculum developed\, updated and field-tested by and for contractors. Supervisory skill or the lack of it directly affects every company's bottom line. You make your money in the field\, and STP can help you improve your organization's bottom line.AGC Florida East Coast Chapter offers STP courses online in partnership with ConstructionClasses.com.Courses run for 10 weeks and participants may access the online training 24/7 during the 10-week period. Seminar classes last 5 weeks. Please budget five (5) hours per week to complete course work. 200 SERIES: SUPERVISORY TRAINING PROGRAM (STP)201S Leadership and MotivationLeadership is one of the most important skills a construction supervisor can practice\, which is at the heart of this construction superintendent training course. Successful leaders continue to learn how to be good leaders. Despite what you may think\, leadership can be learned.203P Risk Management and Problem Solving Learn how to utilize specific methods to reduce risk\, prevent loss\, and ensure a safe working environment. We will discuss the delegation of responsibility for safety\, equipment maintenance\, and common construction hazards\, and other essential discussions for a safe and productive jobsite as found in our online construction certificate programs.205T Planning and SchedulingPlanning and scheduling is a primary technical skill all successful construction supervisors and project managers need to effectively engage and utilize their teams\, resources\, and manage the job.206T Construction Productivity and Cost Management206T is one of many estimating and costing courses offered by Construction Experts Inc. This class specifically focuses on construction cost and applies principles and practices associated with cost awareness and production control to different elements of a project.Classes being offered Starting: September 14\, 2026 (can register up until September 25th).
X-ALT-DESC;FMTTYPE=text/html:<!DOCTYPE html><html><head><title></title></head><body aria-disabled="false"><div><h1><span style="font-size: 24px\;">AGC Member Pricing: $600 (per course) | Non-Member Pricing: $600 (per course)</span></h1><h1><span style="font-size: 24px\;">SUPERVISORY TRAINING</span></h1><div><p><span style="font-size: 18px\;">The Associated General Contractors of America&rsquo\;s Supervisory Training Program (STP) is a construction-specific training curriculum developed\, updated and field-tested by and for contractors. Supervisory skill&mdash\;or the lack of it&mdash\;directly affects every company&rsquo\;s bottom line. You make your money in the field\, and STP can help you improve your organization&rsquo\;s bottom line.</span></p><p><span style="font-size: 18px\;">AGC Florida East Coast Chapter offers STP courses online in partnership with ConstructionClasses.com.</span></p><p><span style="font-size: 18px\;">Courses run for 10 weeks and participants may access the online training 24/7 during the 10-week period. Seminar classes last 5 weeks. Please budget five (5) hours per week to complete course work.</span></p><div><span style="font-size: 24px\;">&nbsp\;</span></div></div><h2><span style="font-size: 24px\;">200 SERIES: SUPERVISORY TRAINING PROGRAM (STP)</span></h2><p><span style="font-size: 18px\;"><strong fr-original-style="" style="font-weight: 700\;">201S Leadership and Motivation</strong></span></p><p><span style="font-size: 18px\;">Leadership is one of the most important skills a construction supervisor can practice\, which is at the heart of this construction superintendent training course. Successful leaders continue to learn how to be good leaders. Despite what you may think\, leadership can be learned.</span></p><p><span style="font-size: 18px\;"><strong fr-original-style="" style="font-weight: 700\;">203P Risk Management and Problem Solving&nbsp\;</strong></span></p><p><span style="font-size: 18px\;">Learn how to utilize specific methods to reduce risk\, prevent loss\, and ensure a safe working environment. We will discuss the delegation of responsibility for safety\, equipment maintenance\, and common construction hazards\, and other essential discussions for a safe and productive jobsite as found in our online construction certificate programs.</span></p><p><span style="font-size: 18px\;"><strong fr-original-style="" style="font-weight: 700\;">205T Planning and Scheduling</strong></span></p><p><span style="font-size: 18px\;">Planning and scheduling is a primary technical skill all successful construction supervisors and project managers need to effectively engage and utilize their teams\, resources\, and manage the job.</span></p><p><span style="font-size: 18px\;"><strong fr-original-style="" style="font-weight: 700\;">206T Construction Productivity and Cost Management</strong></span></p><p><span style="font-size: 18px\;">206T is one of many estimating and costing courses offered by Construction Experts Inc. This class specifically focuses on construction cost and applies principles and practices associated with cost awareness and production control to different elements of a project.</span></p><p><span style="font-size: 18px\;"><span style="color: rgb(226\, 80\, 65)\;"><strong fr-original-style="" style="font-weight: 700\;">Classes being offered Starting: September 14\, 2026 (can register up until September 25th).</strong></span></span></p></div><p><span style="font-size: 24px\;"><br></span></p><p><br></p></body></html>
LOCATION:
UID:e.2444.1447058
SEQUENCE:3
DTSTAMP:20260421T122625Z
URL:https://members.agcfla.build/board-meetings/Details/supervisory-training-program-stp-1713880?sourceTypeId=Hub
END:VEVENT
END:VCALENDAR
