BEGIN:VCALENDAR
VERSION:2.0
PRODID:-//ChamberMaster//Event Calendar 2.0//EN
METHOD:PUBLISH
X-PUBLISHED-TTL:P1H
REFRESH-INTERVAL:P1H
CALSCALE:GREGORIAN
BEGIN:VTIMEZONE
TZID:America/New_York
BEGIN:DAYLIGHT
RRULE:FREQ=YEARLY;BYMONTH=3;BYDAY=2SU
DTSTART:20070101T000000
TZOFFSETFROM:-0500
TZOFFSETTO:-0400
TZNAME:Eastern Daylight Time
END:DAYLIGHT
BEGIN:STANDARD
RRULE:FREQ=YEARLY;BYMONTH=11;BYDAY=1SU
DTSTART:20070101T000000
TZOFFSETFROM:-0400
TZOFFSETTO:-0500
TZNAME:Eastern Standard Time
END:STANDARD
END:VTIMEZONE
BEGIN:VEVENT
DTSTART;VALUE=DATE:20260803
DTEND;VALUE=DATE:20260827
TRANSP:TRANSPARENT
X-MICROSOFT-CDO-ALLDAYEVENT:TRUE
SUMMARY:AGC EDGE - Project Manager Development Program
DESCRIPTION:To Register for this course\, CLICK HERE.Note: please select AGC Chapter - AGC Florida East Coast (11E) from the dropdown menu when registeringAGC Member Pricing:  $1\,945.00       Non-Member Pricing: $2\,525.00About the CourseAGC Edge Project Manager Development Program (PMDP) is highly interactive and offers 40-hours of construction-specific training developed and field-tested by and for contractors. The collaborative virtual program provides instruction via Zoom to prepare construction industry professionals with the necessary skills and knowledge to increase the participant's ability to work successfully with others to ensure project success.PMDP consists of five units\, each focusing on critical aspects of project management\, from initiation and planning to execution\, monitoring\, controlling\, and closeout. You'll gain insights into construction law\, safety\, contract management\, stakeholder engagement\, cost estimation\, quality assurance\, and much more. The program is designed not just to teach but to engage you with practical activities and shared experiences.Whether you're looking to build a solid foundation for your career or seeking to advance your project management skills\, PMDP provides the knowledge and tools necessary for ensuring project success in the dynamic field of construction.After completing the course\, students receive a Certificate of Completion and a digital badge to share.
X-ALT-DESC;FMTTYPE=text/html:<!DOCTYPE html><html><head><title></title></head><body aria-disabled="false"><p><span style="font-size: 18px\;">To Register for this course\,&nbsp\;</span><a fr-original-style="" href="https://agc-community.agc.org/s/lt-event?id=a1mRg000009RTf3&_gl=1*1rj6mm5*_ga*MTkzMzI0MjY5MC4xNzU2MjM4NzEx*_ga_CJE7FRBLFR*czE3NzY3MDk3Mzgkbzc3JGcxJHQxNzc2NzEwNDgwJGo1NyRsMCRoMA.." style="user-select: auto\;"><span style="font-size: 18px\;"><strong fr-original-style="" style="font-weight: 700\;"><span style="color: rgb(184\, 49\, 47)\;">CLICK HERE.</span></strong></span></a></p><p><em>Note: please select AGC Chapter - AGC Florida East Coast (11E) from the dropdown menu when registering</em></p><p><span style="font-size: 18px\;"><span style="font-family: Tahoma\,Geneva\,sans-serif\;"><strong fr-original-style="" style="font-weight: 700\;">AGC Member Pricing:&nbsp\;</strong>&nbsp\;$1\,945.00 &nbsp\; &nbsp\;<strong fr-original-style="" style="font-weight: 700\;">&nbsp\; &nbsp\;Non-Member Pricing:</strong>&nbsp\;$2\,525.00</span></span></p><p><span style="font-size: 18px\;"><span style="font-family: Tahoma\,Geneva\,sans-serif\;"><strong fr-original-style="" style="font-weight: 700\;">About the Course</strong></span></span></p><p><span style="font-size: 18px\;"><span style="font-family: Tahoma\,Geneva\,sans-serif\;"><strong fr-original-style="" style="font-weight: 700\;">AGC Edge Project Manager Development Program (PMDP)&nbsp\;</strong>is highly interactive and offers 40-hours of construction-specific training developed and field-tested by and for contractors. The collaborative virtual program provides instruction via Zoom to prepare construction industry professionals with the necessary skills and knowledge to increase the participant&rsquo\;s ability to work successfully with others to ensure project success.</span></span></p><p><span style="font-size: 18px\;"><span style="font-family: Tahoma\,Geneva\,sans-serif\;">PMDP consists of five units\, each focusing on critical aspects of project management\, from initiation and planning to execution\, monitoring\, controlling\, and closeout. You&rsquo\;ll gain insights into construction law\, safety\, contract management\, stakeholder engagement\, cost estimation\, quality assurance\, and much more. The program is designed not just to teach but to engage you with practical activities and shared experiences.</span></span></p><p><span style="font-size: 18px\;"><span style="font-family: Tahoma\,Geneva\,sans-serif\;">Whether you&rsquo\;re looking to build a solid foundation for your career or seeking to advance your project management skills\, PMDP provides the knowledge and tools necessary for ensuring project success in the dynamic field of construction.</span></span></p><p><span style="font-family: Tahoma\, Geneva\, sans-serif\; font-size: 18px\;">After completing the course\, students receive a Certificate of Completion and a digital badge to share.</span></p></body></html>
LOCATION:
UID:e.2444.1447358
SEQUENCE:3
DTSTAMP:20260421T122627Z
URL:https://members.agcfla.build/board-meetings/Details/agc-edge-project-manager-development-program-1714296?sourceTypeId=Hub
END:VEVENT
END:VCALENDAR
