BEGIN:VCALENDAR
VERSION:2.0
PRODID:-//ChamberMaster//Event Calendar 2.0//EN
METHOD:PUBLISH
X-PUBLISHED-TTL:P1H
REFRESH-INTERVAL:P1H
CALSCALE:GREGORIAN
BEGIN:VTIMEZONE
TZID:America/New_York
BEGIN:DAYLIGHT
RRULE:FREQ=YEARLY;BYMONTH=3;BYDAY=2SU
DTSTART:20070101T000000
TZOFFSETFROM:-0500
TZOFFSETTO:-0400
TZNAME:Eastern Daylight Time
END:DAYLIGHT
BEGIN:STANDARD
RRULE:FREQ=YEARLY;BYMONTH=11;BYDAY=1SU
DTSTART:20070101T000000
TZOFFSETFROM:-0400
TZOFFSETTO:-0500
TZNAME:Eastern Standard Time
END:STANDARD
END:VTIMEZONE
BEGIN:VEVENT
DTSTART;VALUE=DATE:20260629
DTEND;VALUE=DATE:20260907
TRANSP:TRANSPARENT
X-MICROSOFT-CDO-ALLDAYEVENT:TRUE
SUMMARY:Supervisory Training Program (STP)
DESCRIPTION:AGC Member Pricing: $600 (per course) | Non-Member Pricing: $600 (per course)SUPERVISORY TRAININGThe Associated General Contractors of America's Supervisory Training Program (STP) is a construction-specific training curriculum developed\, updated and field-tested by and for contractors. Supervisory skill or the lack of it directly affects every company's bottom line. You make your money in the field\, and STP can help you improve your organization's bottom line.AGC Florida East Coast Chapter offers STP courses online in partnership with ConstructionClasses.com.Courses run for 10 weeks and participants may access the online training 24/7 during the 10-week period. Seminar classes last 5 weeks. Please budget five (5) hours per week to complete course work. 200 SERIES: SUPERVISORY TRAINING PROGRAM (STP)202S Oral and Written CommunicationsCommunication is multi-faceted. It includes nonverbal communication\, body language\, listening\, inflection\, and written communication. Without quality skills in each of these categories you are putting yourself and your career at a severe disadvantage.204P Contract Documents and Construction LawLegal issues will be studied including regulatory issues\, liens\, bonds\, insurance\, and how standardized forms are used as well as general conditions clauses that affect levels of decision making authority\, project close-out and the superintendent's role as agent of the contractor.205T Planning and SchedulingPlanning and scheduling is a primary technical skill all successful construction supervisors and project managers need to effectively engage and utilize their teams\, resources\, and manage the job.Classes being offered Starting: June 29\, 2026 (can register up until July 10th).
X-ALT-DESC;FMTTYPE=text/html:<!DOCTYPE html><html><head><title></title></head><body aria-disabled="false"><div><h1><span style="font-size: 24px\;">AGC Member Pricing: $600 (per course) | Non-Member Pricing: $600 (per course)</span></h1><h1><span style="font-size: 24px\;">SUPERVISORY TRAINING</span></h1><div><p><span style="font-size: 18px\;">The Associated General Contractors of America&rsquo\;s Supervisory Training Program (STP) is a construction-specific training curriculum developed\, updated and field-tested by and for contractors. Supervisory skill&mdash\;or the lack of it&mdash\;directly affects every company&rsquo\;s bottom line. You make your money in the field\, and STP can help you improve your organization&rsquo\;s bottom line.</span></p><p><span style="font-size: 18px\;">AGC Florida East Coast Chapter offers STP courses online in partnership with ConstructionClasses.com.</span></p><p><span style="font-size: 18px\;">Courses run for 10 weeks and participants may access the online training 24/7 during the 10-week period. Seminar classes last 5 weeks. Please budget five (5) hours per week to complete course work.</span></p><div><span style="font-size: 24px\;">&nbsp\;</span></div></div><h2><span style="font-size: 24px\;">200 SERIES: SUPERVISORY TRAINING PROGRAM (STP)</span></h2><p><span style="font-size: 18px\;"><strong fr-original-style="" style="font-weight: 700\;">202S Oral and Written Communications</strong></span></p><p><span style="font-size: 18px\;">Communication is multi-faceted. It includes nonverbal communication\, body language\, listening\, inflection\, and written communication. Without quality skills in each of these categories you are putting yourself and your career at a severe disadvantage.</span></p><p><span style="font-size: 18px\;"><strong fr-original-style="" style="font-weight: 700\;">204P Contract Documents and Construction Law</strong></span></p><p><span style="font-size: 18px\;">Legal issues will be studied including regulatory issues\, liens\, bonds\, insurance\, and how standardized forms are used as well as general conditions clauses that affect levels of decision making authority\, project close-out and the superintendent&rsquo\;s role as agent of the contractor.</span></p><p><span style="font-size: 18px\;"><strong fr-original-style="" style="font-weight: 700\;">205T Planning and Scheduling</strong></span></p><p><span style="font-size: 18px\;">Planning and scheduling is a primary technical skill all successful construction supervisors and project managers need to effectively engage and utilize their teams\, resources\, and manage the job.</span></p><p><span style="font-size: 18px\;"><span style="color: rgb(226\, 80\, 65)\;"><strong fr-original-style="" style="font-weight: 700\;">Classes being offered Starting: June 29\, 2026 (can register up until July 10th).</strong></span></span></p></div><p><span style="font-size: 24px\;"><br></span></p><p><br></p></body></html>
LOCATION:
UID:e.2444.1446968
SEQUENCE:3
DTSTAMP:20260421T122627Z
URL:https://members.agcfla.build/board-meetings/Details/supervisory-training-program-stp-1713778?sourceTypeId=Hub
END:VEVENT
END:VCALENDAR
